BEGIN:VCALENDAR
VERSION:2.0
PRODID:-//Gospel Vallès - ECPv5.9.2//NONSGML v1.0//EN
CALSCALE:GREGORIAN
METHOD:PUBLISH
X-WR-CALNAME:Gospel Vallès
X-ORIGINAL-URL:https://gospelvalles.com
X-WR-CALDESC:Esdeveniments per Gospel Vallès
BEGIN:VTIMEZONE
TZID:Europe/Paris
BEGIN:DAYLIGHT
TZOFFSETFROM:+0100
TZOFFSETTO:+0200
TZNAME:CEST
DTSTART:20190331T010000
END:DAYLIGHT
BEGIN:STANDARD
TZOFFSETFROM:+0200
TZOFFSETTO:+0100
TZNAME:CET
DTSTART:20191027T010000
END:STANDARD
END:VTIMEZONE
BEGIN:VEVENT
DTSTART;TZID=Europe/Paris:20190426T200000
DTEND;TZID=Europe/Paris:20190426T211500
DTSTAMP:20260422T081818
CREATED:20190307T201450Z
LAST-MODIFIED:20190307T201450Z
UID:1357-1556308800-1556313300@gospelvalles.com
SUMMARY:Concert benèfic església de santa Anna (Barcelona)
DESCRIPTION:El proper 26 d’Abril farem un concert benèfic a les 20h a l’església Santa Anna de Barcelona.
URL:https://gospelvalles.com/event/concert-benefic-esglesia-de-santa-anna-barcelona/
LOCATION:Esglesia Santa Anna\, Barcelona\, Santa Anna 29\, Barcelona\, Barcelona\, 08002\, Espanya
CATEGORIES:concert
END:VEVENT
END:VCALENDAR